BEGIN:VCALENDAR
VERSION:2.0
PRODID:-//wp-events-plugin.com//7.0.4//EN
BEGIN:VEVENT
UID:1@newearthpermaculture.org
DTSTART;TZID=America/New_York:20210819T110000
DTEND;TZID=America/New_York:20210819T120000
DTSTAMP:20210818T201412Z
URL:https://newearthpermaculture.org/events/outdoor-yoga-class/
SUMMARY:Outdoor Yoga Class
DESCRIPTION:Join us at the Recreation and Park Shelter by the water at City
  Park  for a full 60 minute Vinyasa Yoga class for all ages and types. Br
 ing your own mat\, registration required\, and donations are welcome.
LOCATION:Recreation and Park Shelter\, City Park\, 5 Emily Street\, Kingsto
 n\, Ontario\, Canada
X-APPLE-STRUCTURED-LOCATION;VALUE=URI;X-ADDRESS=5 Emily Street\, Kingston\,
  Ontario\, Canada;X-APPLE-RADIUS=100;X-TITLE=Recreation and Park Shelter\,
  City Park:geo:0,0
END:VEVENT
BEGIN:VEVENT
UID:5@newearthpermaculture.org
DTSTART;TZID=America/Toronto:20211023T120000
DTEND;TZID=America/Toronto:20211023T160000
DTSTAMP:20211007T152245Z
URL:https://newearthpermaculture.org/events/ecological-garden-workshop/
SUMMARY:Ecological Garden Workshop
DESCRIPTION:Join us on Saturday October 23rd for a in depth look at ecologi
 cal gardening and the multitude of reasons why we use them\, how we build 
 them\, and then we will build one together to get the real life feel of th
 is beautiful art. All are welcome - judgement free zone. No cost necessary
 \, and donations are welcome :). Sign up below so we can keep track of num
 bers. Bring clothes you don't mind getting messy\, and a smile :)\n\n*** I
 t will be held at the Oak Street Community Garden.\n\n[wpforms id="22"]
CATEGORIES:Workshop
END:VEVENT
BEGIN:VEVENT
UID:6@newearthpermaculture.org
DTSTART:20211119T173000Z
DTEND:20211119T184500Z
DTSTAMP:20211117T170257Z
URL:https://newearthpermaculture.org/events/grand-opening-yoga-class/
SUMMARY:Grand Opening Yoga Class
DESCRIPTION:Come join us in the west end of Kingston for a 60 minute vinyas
 a style yoga class. All are welcome\, no experience required\, just bring 
 your own mat\, as we only have a couple to offer for those without at this
  moment. We are charging 10$ for your first class\, and we are offering ve
 gan\, organic meals for anyone who is interested for 10$ per meal after ou
 r class (please let us know if you are interested in a meal) Contact - 613
 -840-5630 or newearthpermaculture@outlook.com for the address\, and if you
  have any questions.
END:VEVENT
BEGIN:VTIMEZONE
TZID:America/New_York
X-LIC-LOCATION:America/New_York
BEGIN:DAYLIGHT
DTSTART:20210314T030000
TZOFFSETFROM:-0500
TZOFFSETTO:-0400
TZNAME:EDT
END:DAYLIGHT
END:VTIMEZONE
BEGIN:VTIMEZONE
TZID:America/Toronto
X-LIC-LOCATION:America/Toronto
BEGIN:DAYLIGHT
DTSTART:20210314T030000
TZOFFSETFROM:-0500
TZOFFSETTO:-0400
TZNAME:EDT
END:DAYLIGHT
END:VTIMEZONE
END:VCALENDAR